BEGIN:VCALENDAR
VERSION:2.0
BEGIN:VEVENT
CLASS:PUBLIC
CATEGORIES:MEETING
DTSTART;TZID=America/New_York:20241123T190000
DTEND;TZID=America/New_York:20241123T190000
SUMMARY:PR1 Promotions / DJ Tiburon at Salty Jim's Island Bar & Grill
DESCRIPTION:Age Limit: All Ages\n\nDetails: Saturday night Vibes with DJ Tiburon8 ball pool tourney at 7pm as well.  Live mix from all genres and decades. Come vibe with us!
LOCATION:Salty Jim's Island Bar & Grill - 3655 Webber Street, Sarasota, FL, 34232, US
END:VEVENT

END:VCALENDAR
