BEGIN:VCALENDAR
VERSION:2.0
BEGIN:VEVENT
CLASS:PUBLIC
CATEGORIES:MEETING
DTSTART;TZID=America/New_York:20250412T190000
DTEND;TZID=America/New_York:20250412T190000
SUMMARY:LESSON ZERO at Tommy Joe's
DESCRIPTION:Price: free\nAge Limit: All Ages\n\nDetails: Great venue, good food and drinks, no cover, garage parking, friendly folks, and way cool music from Oasis recording artist LESSON ZERO
LOCATION:Tommy Joe's - 4714 Montgomery Ln, Bethesda, MD, 20814, US
END:VEVENT

END:VCALENDAR
