BEGIN:VCALENDAR
VERSION:2.0
BEGIN:VEVENT
CLASS:PUBLIC
CATEGORIES:MEETING
DTSTART;TZID=America/Vancouver:20250919T200000
DTEND;TZID=America/Vancouver:20250919T200000
SUMMARY:Michael Charles at The Flying Steamshovel
DESCRIPTION:Age Limit: All Ages\n\nDetails: \n“The Guitars, Music and Miles 2025 tour drives the power trio of Michael Charles straight to you for a non-stop concert explosion of music and guitars, contemporary blues, high energy rock, and soulful ballads from the forty-release discography of multi-genre Chicago Blues Hall of Famer Michael Charles.”  \n
LOCATION:The Flying Steamshovel - 2 Ave, Rossland, BC, V0G 1Y0, CA
END:VEVENT

END:VCALENDAR
