BEGIN:VCALENDAR
VERSION:2.0
BEGIN:VEVENT
CLASS:PUBLIC
CATEGORIES:MEETING
DTSTART;TZID=America/Chicago:20250308T190000
DTEND;TZID=America/Chicago:20250308T190000
SUMMARY:Michael Charles at The Silo Pub & Eatery
DESCRIPTION:Age Limit: All Ages\n\nDetails: 2025 Tour
LOCATION:The Silo Pub & Eatery - 117 West Walnut Street, Watseka, IL, 60970, US
END:VEVENT

END:VCALENDAR
