BEGIN:VCALENDAR
VERSION:2.0
BEGIN:VEVENT
CLASS:PUBLIC
CATEGORIES:MEETING
DTSTART;TZID=Pacific/Auckland:20241018T130000
DTEND;TZID=Pacific/Auckland:20241018T130000
SUMMARY:Phreaze at Toi Kiri @ Whareroa Reserve
DESCRIPTION:Price: $10\nClick here to buy tickets: https://www.toikiri.nz/event-ticketing\nAge Limit: All Ages\n\nDetails: As one big event of FESTIVAL, SYMPOSIUM, EXHIBITION and WĀNANGA, Toi Kiri gathers Tā Tatau, Tā Moko and Skin Marking Artists, alongside Cultural Artists, Musicians, Performers and Kai - celebrate together and enjoy unique expressions of the world.\n\nBringing the best of indigenous traditions together, immerse yourself in cultural identity at Toi Kiri 2024.\n\n    3 Day Festival\n    Food and Markets\n    Performances\n    Symposium &amp; Workshops\n    Exhibition &amp; Wānanga\n\n--- Find more info and ticketing at www.toikiri.nz
LOCATION:Toi Kiri @ Whareroa Reserve - 25 Taiaho Place, Mount Maunganui, BOP, 3116, NZ
END:VEVENT

END:VCALENDAR
