BEGIN:VCALENDAR
VERSION:2.0
BEGIN:VEVENT
CLASS:PUBLIC
CATEGORIES:MEETING
DTSTART;TZID=America/Los_Angeles:20240920T180000
DTEND;TZID=America/Los_Angeles:20240920T180000
SUMMARY:Silver Lining at Laguna Niguel Promenade 
DESCRIPTION:Age Limit: All Ages\n\nDetails: Laguna Niguel free music Fridays 
LOCATION:Laguna Niguel Promenade  - 27891 La Paz Rd, Laguna Niguel, CA, 92677, US
END:VEVENT

END:VCALENDAR
