BEGIN:VCALENDAR
VERSION:2.0
BEGIN:VEVENT
CLASS:PUBLIC
CATEGORIES:MEETING
DTSTART;TZID=America/New_York:20240921T190000
DTEND;TZID=America/New_York:20240921T190000
SUMMARY:PR1 Promotions / DJ Tiburon at Salty Jim's
DESCRIPTION:Price: No cover\nAge Limit: 21+\n\nDetails: $10 8ball pool tourney with a big payout race to 2 double elimination. \nDJ Tiburon aka Paco will be mixing music with that seamless flow you&#39;ve grown to love from all the decades.  If you&#39;ve not experienced the party here at salty Jim&#39;s make plans to attend the crowd determines the vibe the music feeds the soul. Another PR1 Promotions Experience.  #djtiburon #pr1promotions
LOCATION:Salty Jim's - 3655 Webber Street, Sarasota, FL, 34232, US
END:VEVENT

END:VCALENDAR
