BEGIN:VCALENDAR
VERSION:2.0
BEGIN:VEVENT
CLASS:PUBLIC
CATEGORIES:MEETING
DTSTART;TZID=America/New_York:20240831T190000
DTEND;TZID=America/New_York:20240831T190000
SUMMARY:PR1 Promotions / DJ Tiburon at Salty Jim's
DESCRIPTION:Age Limit: 21+\n\nDetails: It&#39;s still my birthday week and I&#39;m still ready to party... Let&#39;s get it! It&#39;s always a great time. No work till Tuesday! Let&#39;s light up the dance floor and see what happens! Pool tourney at 7. Let&#39;s goooooo!!!!!😎
LOCATION:Salty Jim's - 3655 Webber Street, Sarasota, FL, 34232, US
END:VEVENT

END:VCALENDAR
