BEGIN:VCALENDAR
VERSION:2.0
BEGIN:VEVENT
CLASS:PUBLIC
CATEGORIES:MEETING
DTSTART;TZID=Europe/Paris:20240926T200000
DTEND;TZID=Europe/Paris:20240926T200000
SUMMARY:MAXYB at Ice bar 
DESCRIPTION:Age Limit: 21+ or w/ adult\n\nDetails: Tickets on the night will be £10 on the door more artist the tending but I’m headlining so don’t miss this one
LOCATION:Ice bar  - 156 de Cannes 863340, Cannes, 863340, FR
END:VEVENT

END:VCALENDAR
