BEGIN:VCALENDAR
VERSION:2.0
BEGIN:VEVENT
CLASS:PUBLIC
CATEGORIES:MEETING
DTSTART;TZID=America/Los_Angeles:20241024T203000
DTEND;TZID=America/Los_Angeles:20241024T203000
SUMMARY:Julie Ann Weiler at Mr. Peabody's Encinitas
DESCRIPTION:Age Limit: All Ages
LOCATION:Mr. Peabody's Encinitas - 136 Encinitas Boulevard, Encinitas, CA, 92024, US
END:VEVENT

END:VCALENDAR
