BEGIN:VCALENDAR
VERSION:2.0
BEGIN:VEVENT
CLASS:PUBLIC
CATEGORIES:MEETING
DTSTART;TZID=America/New_York:20241005T190000
DTEND;TZID=America/New_York:20241005T190000
SUMMARY:PR1 Promotions / DJ Tiburon at Salty Jim's
DESCRIPTION:Age Limit: 21+\n\nDetails: You already know your boy DJ Tiburon aka Paco  is back again for a Saturday night vibes.  you know how we do!! come out and dance and enjoy yourself. #PR1Promotions #DJTiburon. 
LOCATION:Salty Jim's - 3655 Webber Street, Sarasota, FL, 34232, US
END:VEVENT

END:VCALENDAR
