BEGIN:VCALENDAR
VERSION:2.0
BEGIN:VEVENT
CLASS:PUBLIC
CATEGORIES:MEETING
DTSTART;TZID=America/New_York:20240906T190000
DTEND;TZID=America/New_York:20240906T190000
SUMMARY:PR1 Promotions / DJ Tiburon at Salty Jim's
DESCRIPTION:Age Limit: 21+\n\nDetails: Early Friday vibes. Dj Tiburon returns. Let&#39;s dance and enjoy some social fun. Also Pool tourney at 7pm with a deep payout the more people we have.  #AnotherPR1PromotionsExperience
LOCATION:Salty Jim's - 3655 Webber Street, Sarasota, FL, 34232, US
END:VEVENT

END:VCALENDAR
