BEGIN:VCALENDAR
VERSION:2.0
BEGIN:VEVENT
CLASS:PUBLIC
CATEGORIES:MEETING
DTSTART:20240929T130000Z
DTEND:20240929T130000Z
SUMMARY:Sillken at Coquitlam Farmers Market
DESCRIPTION:Age Limit: All Ages
LOCATION:Coquitlam Farmers Market - Coquitlam Farmers Market, Coquitlam, BC, CA
END:VEVENT

END:VCALENDAR
