BEGIN:VCALENDAR
VERSION:2.0
BEGIN:VEVENT
CLASS:PUBLIC
CATEGORIES:MEETING
DTSTART:20240908T130000Z
DTEND:20240908T130000Z
SUMMARY:Sillken at Brentwood Farmers Market
DESCRIPTION:Age Limit: All Ages
LOCATION:Brentwood Farmers Market - Burnaby, Burnaby, BC, CA
END:VEVENT

END:VCALENDAR
