BEGIN:VCALENDAR
VERSION:2.0
BEGIN:VEVENT
CLASS:PUBLIC
CATEGORIES:MEETING
DTSTART:20240911T180000Z
DTEND:20240911T180000Z
SUMMARY:Sillken at Vancouver Art Gallery Market Venue
DESCRIPTION:Age Limit: All Ages
LOCATION:Vancouver Art Gallery Market Venue - Art Gallery, Vancouver, BC, CA
END:VEVENT

END:VCALENDAR
