BEGIN:VCALENDAR
VERSION:2.0
BEGIN:VEVENT
CLASS:PUBLIC
CATEGORIES:MEETING
DTSTART:20240907T223000Z
DTEND:20240907T223000Z
SUMMARY:Amanda Cottreau at Angela's Bed & Breakfast
DESCRIPTION:Price: $15-25\nClick here to buy tickets: https://guestlist.co/events/781770\nAge Limit: All Ages\n\nDetails: The Glebe House Concert Series: RENEWAL\nSaturday, September 7th, 2024.\nAngela&#39;s Bed &amp; Breakfast Ottawa (166 Glebe Avenue) has graciously opened their doors for the 9th installment of a most intimate communal concert and wellness series. We will gather together in the spirit of diversity, inclusion, and mental health.  You are invited to experience the various flavours, visual expressions, and soundscapes of growth and expansion, in line with this evening&#39;s theme: Renewal. Guests will also have the opportunity to meet and connect with local women&#39;s health and wellness practitioners.\n\nGuests are invited to bring items of food and comfort. This is a BYOB event.\nThere will be offerings of poetry, visual art, and music from a diverse mix of local artists:\nAmanda Cottreau\nSiaka Diabaté\nSarah Lussier and more artists soon to be confirmed\nIf you are unable to make the show for the first half, it is recommended that you come during the intermission to attend the second half.\n6:30pm - Meet and greet\n7:30pm - First Half\n8:30pm - Intermission (Women&#39;s Wellness Collective Showcase)\n9:00pm - Second Half\n10:00pm - Farewell\n10:30pm –Doors close\nPlease be mindful that this show occurs in a residential setting. Those attending the show must leave by no later than 10:30pm.\n\nTickets:\n$20 advance (before Sept 6th)\n$15 students/seniors/fixed income\n$25 regular (as of Sept 7th)\nNote: Children under 12 are FREE!\nAs space is limited, all guests must register online via guestlist. If you are unable to purchase tickets and would like to sign up for the email list, to get notifications regarding future concerts in this series, please contact Amanda via email amandacottreau@gmail.com.\nArrival and Departure:\nParking is available along Lyon &amp; Glebe Avenue. If you plan to consume alcohol please arrange for a designated driver or use one of the ride-sharing applications.
LOCATION:Angela's Bed & Breakfast - 166 Glebe Avenue, Ottawa, ON, CA
END:VEVENT

END:VCALENDAR
