BEGIN:VCALENDAR
VERSION:2.0
BEGIN:VEVENT
CLASS:PUBLIC
CATEGORIES:MEETING
DTSTART;TZID=America/Chicago:20250727T140000
DTEND;TZID=America/Chicago:20250727T140000
SUMMARY:Michael Charles at Lena Brewing Company
DESCRIPTION:Age Limit: All Ages\n\nDetails: \n“The Guitars, Music and Miles 2025 tour drives the power trio of Michael Charles straight to you for a non-stop concert explosion of music and guitars, contemporary blues, high energy rock, and soulful ballads from the forty-release discography of multi-genre Chicago Blues Hall of Famer Michael Charles.”  \n
LOCATION:Lena Brewing Company - 9416 West Wagner Road, Lena, IL, 61048, US
END:VEVENT

END:VCALENDAR
