BEGIN:VCALENDAR
VERSION:2.0
BEGIN:VEVENT
CLASS:PUBLIC
CATEGORIES:MEETING
DTSTART;TZID=America/Chicago:20261029T190000
DTEND;TZID=America/Chicago:20261029T190000
SUMMARY:TBD at THE RED BRICK TAVERN
DESCRIPTION:Price: No Cover/Tips Suggested\nAge Limit: All Ages
LOCATION:THE RED BRICK TAVERN - 119 Simonton Street, Conroe, TX, 77301, US
END:VEVENT

END:VCALENDAR
