BEGIN:VCALENDAR
VERSION:2.0
BEGIN:VEVENT
CLASS:PUBLIC
CATEGORIES:MEETING
DTSTART;TZID=America/Chicago:20241116T200000
DTEND;TZID=America/Chicago:20241116T200000
SUMMARY:Michael Charles at The Oak Room of Columbus
DESCRIPTION:Age Limit: All Ages\n\nDetails: Join us for a 40th Anniversary Tour acoustic concert by Chicago Blues Hall of Fame, Australian born muso Michael Charles as he takes you through forty years and forty releases of music. The three hour non-stop concert overflows with precise, energetic, intense, original, and guitar driven contemporary blues, blues-based rock, and the soulful ballads of Michael Charles.
LOCATION:The Oak Room of Columbus - 1270 27th Avenue, Columbus, NE, 68601, US
END:VEVENT

END:VCALENDAR
