BEGIN:VCALENDAR
VERSION:2.0
BEGIN:VEVENT
CLASS:PUBLIC
CATEGORIES:MEETING
DTSTART;TZID=America/Chicago:20240816T190000
DTEND;TZID=America/Chicago:20240816T190000
SUMMARY:Michael Charles at Council Hill Station  Spirit of Woodstock
DESCRIPTION:Price: $20\nAge Limit: All Ages\n\nDetails: Join us for a 40th Anniversary Tour concert by Chicago Blues Hall of Fame, Australian born muso Michael Charles and His Band as they take you through forty years and forty releases of music. The three hour non-stop concert overflows with precise, energetic, intense, original, and guitar driven contemporary blues, blues-based rock, and the soulful ballads of Michael Charles.
LOCATION:Council Hill Station  Spirit of Woodstock - 6521 North Hill Road, Scales Mound, IL, 61075, US
END:VEVENT

END:VCALENDAR
