BEGIN:VCALENDAR
VERSION:2.0
BEGIN:VEVENT
CLASS:PUBLIC
CATEGORIES:MEETING
DTSTART;TZID=America/Vancouver:20240807T140000
DTEND;TZID=America/Vancouver:20240807T140000
SUMMARY:Sillken at Vancouver Art Gallery Market Venue
DESCRIPTION:Age Limit: All Ages
LOCATION:Vancouver Art Gallery Market Venue - Art Gallery, Vancouver, BC, V3H5A4, CA
END:VEVENT

END:VCALENDAR
