BEGIN:VCALENDAR
VERSION:2.0
BEGIN:VEVENT
CLASS:PUBLIC
CATEGORIES:MEETING
DTSTART;TZID=America/Vancouver:20240810T120000
DTEND;TZID=America/Vancouver:20240810T120000
SUMMARY:Sillken at UBC Farmers Market
DESCRIPTION:Age Limit: All Ages
LOCATION:UBC Farmers Market - UBC, Kitsilano, BC, V3H5A4, CA
END:VEVENT

END:VCALENDAR
