BEGIN:VCALENDAR
VERSION:2.0
BEGIN:VEVENT
CLASS:PUBLIC
CATEGORIES:MEETING
DTSTART;TZID=America/Los_Angeles:20240818T140000
DTEND;TZID=America/Los_Angeles:20240818T140000
SUMMARY:Silver Lining at Marni's
DESCRIPTION:Price: Free\nAge Limit: All Ages\n\nDetails: Join Silver Lining for Sunday Funda from 2pm-5pm
LOCATION:Marni's - 620 Pacific Coast Hwy, Seal Beach, CA, 90740, US
END:VEVENT

END:VCALENDAR
