BEGIN:VCALENDAR
VERSION:2.0
BEGIN:VEVENT
CLASS:PUBLIC
CATEGORIES:MEETING
DTSTART;TZID=America/Chicago:20240902T190000
DTEND;TZID=America/Chicago:20240902T190000
SUMMARY:Michael Charles at Tall Ship Windy
DESCRIPTION:Price: $59\nClick here to buy tickets: https://tallshipwindy.com/monday-night-concert-series/\nAge Limit: All Ages\n\nDetails: The year was 1984. With a newfound confidence and looking into the future, a young muso from Melbourne Australia decided the time was right to break out on his own and take the solo billing of “Michael Charles”.  The next few years were filled with a heavy promotional schedule, writing, recording, touring, honing his style and enjoying the self-expression and the hard work of presenting his own music.\nIn 1989 a turning point in his life and career materialized in the form of an invitation from Mr. Buddy Guy’s management to appear at Buddy Guy’s Legends in Chicago. Without hesitation Michael traveled the 12,500 mile and after performing with Mr. Guy, Junior Wells, James Cotton, Eddy “The Chief” Clearwater and many more of the blues great in Chicago, Charles returned to Australia.  But within days re-boarded the plane with the solid intention of this time staying and growing his career in America. Not too long after landing an opportunity quickly presented itself and MC accepted the honor of joining up with legendary “Fast Fingers”, Jimmy Dawkins and toured the U.S.A for two years.  \nSome thirty years later Michael Charles roots are in America and his career comprises a catalogue of forty releases, his Chicago Blues Hall of Fame induction, 10 Grammy elections and the recognition of remaining one of America’s most driven artists as he continues to record and annually tours non-stop across the USA, Canada, and Australia delivering at each stop a precise, energetic, intense, original, guitar driven concert of contemporary blues, “MC style”. \nCelebrating his 40th anniversary in 2024 MC boards the Tall Ship Windy off of Navy Pier 600 East Grand Avenue Come Sail with Us!\n
LOCATION:Tall Ship Windy - 600 E Grand Ave, Chicago, IL, 60611, US
END:VEVENT

END:VCALENDAR
