BEGIN:VCALENDAR
VERSION:2.0
BEGIN:VEVENT
CLASS:PUBLIC
CATEGORIES:MEETING
DTSTART;TZID=America/Los_Angeles:20240928T200000
DTEND;TZID=America/Los_Angeles:20240928T200000
SUMMARY:Silver Lining at 562 Pacific Bar and Grill
DESCRIPTION:Age Limit: All Ages\n\nDetails: Silver Lining returns to 562 Pacific Bar and Grill 
LOCATION:562 Pacific Bar and Grill - 5755 Pacific Coast Highway, Long Beach, CA, 90803, US
END:VEVENT

END:VCALENDAR
