BEGIN:VCALENDAR
VERSION:2.0
BEGIN:VEVENT
CLASS:PUBLIC
CATEGORIES:MEETING
DTSTART:20240727T160000Z
DTEND:20240727T160000Z
SUMMARY:Sillken at UBC Farmers Market
DESCRIPTION:Age Limit: All Ages
LOCATION:UBC Farmers Market - UBC, Kitsilano, BC, CA
END:VEVENT

END:VCALENDAR
