BEGIN:VCALENDAR
VERSION:2.0
BEGIN:VEVENT
CLASS:PUBLIC
CATEGORIES:MEETING
DTSTART;TZID=America/New_York:20240817T190000
DTEND;TZID=America/New_York:20240817T190000
SUMMARY:PR1 Promotions / DJ Tiburon at Salty Jim's
DESCRIPTION:Price: No cover unless you okay I&#39;m the tourney \nAge Limit: 21+ or w/ adult\n\nDetails: Saturday vibes. DJ Tiburon aka Paco playing the crowd favorites of the last few decades and remixes of current as well. Pool tourney at 7pm $10 . Come for the fun stay for the vibes. Another PR1 PROMOTIONS Experience.
LOCATION:Salty Jim's - 3655 Webber Street, Sarasota, FL, 34232, US
END:VEVENT

END:VCALENDAR
