BEGIN:VCALENDAR
VERSION:2.0
BEGIN:VEVENT
CLASS:PUBLIC
CATEGORIES:MEETING
DTSTART;TZID=America/Chicago:20240907T200000
DTEND;TZID=America/Chicago:20240907T200000
SUMMARY:Michael Charles at Maywood Fest 2024
DESCRIPTION:Age Limit: All Ages\n\nDetails: Join us for a 40th Anniversary Tour concert by Chicago Blues Hall of Fame, Australian born muso Michael Charles and His Band as they take you through forty years and forty releases of music. The concert overflows with precise, energetic, intense, original, and guitar driven contemporary blues, blues-based rock, and the soulful ballads of Michael Charles.
LOCATION:Maywood Fest 2024 - Veteran's Park 30 W. Madison, Maywood, IL, 60153, US
END:VEVENT

END:VCALENDAR
