BEGIN:VCALENDAR
VERSION:2.0
BEGIN:VEVENT
CLASS:PUBLIC
CATEGORIES:MEETING
DTSTART;TZID=America/New_York:20240705T190000
DTEND;TZID=America/New_York:20240705T190000
SUMMARY:PR1 Promotions / DJ Tiburon at Salty Jim's
DESCRIPTION:Price: No cover\nAge Limit: 18+ or w/ adult\n\nDetails: Enjoy your weekend off with some Friday night vibes by DJ Tiburon.  There will be a scotch doubles 8ball tournament that starts at 7:00 p.m. for $10. Let&#39;s enjoy the festivities and celebrate the holiday weekend..\n\nSaturday will be the Christmas in July party. 
LOCATION:Salty Jim's - 3655 Webber Street, Sarasota, FL, 34232, US
END:VEVENT

END:VCALENDAR
