BEGIN:VCALENDAR
VERSION:2.0
BEGIN:VEVENT
CLASS:PUBLIC
CATEGORIES:MEETING
DTSTART;TZID=America/New_York:20241019T200000
DTEND;TZID=America/New_York:20241019T200000
SUMMARY:Bob Niederriter at Nelson Ledges Quarry Park
DESCRIPTION:Age Limit: All Ages\n\nDetails: Trio performance at Nelson Ledges Quarry Park&#39;s Gorry at the Quarry Festival . Details TBA .
LOCATION:Nelson Ledges Quarry Park - 12001 Rt 282 Nelson Ledge Rd, Garrettsville, OH, 44231, US
END:VEVENT

END:VCALENDAR
