BEGIN:VCALENDAR
VERSION:2.0
BEGIN:VEVENT
CLASS:PUBLIC
CATEGORIES:MEETING
DTSTART;TZID=America/New_York:20241123T200000
DTEND;TZID=America/New_York:20241123T200000
SUMMARY:Michael Charles at Ransom Steele Tavern
DESCRIPTION:Age Limit: 18+ or w/ adult\n\nDetails: Join us for a 40th Anniversary Tour concert by Chicago Blues Hall of Fame, Australian born muso Michael Charles and His Band as they take you through forty years and forty releases of music. The three hour non-stop concert overflows with precise, energetic, intense, original, and guitar driven contemporary blues, blues-based rock, and the soulful ballads of Michael Charles.
LOCATION:Ransom Steele Tavern - 552 Main Street, Apalachin, NY, 13732, US
END:VEVENT

END:VCALENDAR
