BEGIN:VCALENDAR
VERSION:2.0
BEGIN:VEVENT
CLASS:PUBLIC
CATEGORIES:MEETING
DTSTART;TZID=America/New_York:20241122T190000
DTEND;TZID=America/New_York:20241122T190000
SUMMARY:Michael Charles at 75 Stutson Street
DESCRIPTION:Click here to buy tickets: https://www.eventbrite.com/e/michael-charles-40th-anniversary-tour-tickets-1000849837807\nAge Limit: All Ages\n\nDetails: Join us for a 40th Anniversary Tour concert by Chicago Blues Hall of Fame, Australian born muso Michael Charles and His Band as they take you through forty years and forty releases of music. The three hour non-stop concert overflows with precise, energetic, intense, original, and guitar driven contemporary blues, blues-based rock, and the soulful ballads of Michael Charles.
LOCATION:75 Stutson Street - 75 Stutson Street, Rochester, NY, 14612, US
END:VEVENT

END:VCALENDAR
