BEGIN:VCALENDAR
VERSION:2.0
BEGIN:VEVENT
CLASS:PUBLIC
CATEGORIES:MEETING
DTSTART;TZID=America/Chicago:20240821T173000
DTEND;TZID=America/Chicago:20240821T173000
SUMMARY:Michael Charles at Wine Down Wednesday Maywood Park District
DESCRIPTION:Age Limit: All Ages\n\nDetails: The 40th Anniversary Tour concert by Chicago Blues Hall of Fame, Australian born muso Michael Charles and His Band take you through forty years and forty releases of music. The two hour non-stop concert overflows with precise, energetic, intense, original, and guitar driven contemporary blues, blues-based rock, and soulful the ballads of Michael Charles.
LOCATION:Wine Down Wednesday Maywood Park District - 921 S. 9th Avenue, Maywood, IL, 60153, US
END:VEVENT

END:VCALENDAR
