BEGIN:VCALENDAR
VERSION:2.0
BEGIN:VEVENT
CLASS:PUBLIC
CATEGORIES:MEETING
DTSTART;TZID=America/Chicago:20240804T140000
DTEND;TZID=America/Chicago:20240804T140000
SUMMARY:Michael Charles at Rosie O'Hare's Public House
DESCRIPTION:Age Limit: All Ages\n\nDetails: The 40th Anniversary Tour concert by Chicago Blues Hall of Fame, Australian born muso Michael Charles and His Band take you through forty years and forty releases of music. The three hour non-stop concert overflows with precise, energetic, intense, original, and guitar driven contemporary blues, blues-based rock, and soulful the ballads of Michael Charles.
LOCATION:Rosie O'Hare's Public House - 702 Water Street, East Dundee, IL, 60118, US
END:VEVENT

END:VCALENDAR
