BEGIN:VCALENDAR
VERSION:2.0
BEGIN:VEVENT
CLASS:PUBLIC
CATEGORIES:MEETING
DTSTART;TZID=America/Chicago:20241108T193000
DTEND;TZID=America/Chicago:20241108T193000
SUMMARY:Michael Charles at Moonlight Theater
DESCRIPTION:Age Limit: All Ages\n\nDetails: Join us for a 40th Anniversary Tour concert by Chicago Blues Hall of Fame, Australian born muso Michael Charles and His Band as they take you through forty years and forty releases of music. The three hour non-stop concert overflows with precise, energetic, intense, original, and guitar driven contemporary blues, blues-based rock, and the soulful ballads of Michael Charles.
LOCATION:Moonlight Theater - 7 South 2nd Avenue, St. Charles, IL, 60174, US
END:VEVENT

END:VCALENDAR
