BEGIN:VCALENDAR
VERSION:2.0
BEGIN:VEVENT
CLASS:PUBLIC
CATEGORIES:MEETING
DTSTART;TZID=America/New_York:20240601T190000
DTEND;TZID=America/New_York:20240601T190000
SUMMARY:PR1 Promotions / DJ Tiburon at Salty Jim's
DESCRIPTION:Price: No cover but $18 ball tourney ay7\nAge Limit: All Ages\n\nDetails: Do you know how we do Saturday night Vibes.  Let&#39;s have some fun and dig through the crates. \n7-10-10:30
LOCATION:Salty Jim's - 3655 Webber Street, Sarasota, FL, 34232, US
END:VEVENT

END:VCALENDAR
