BEGIN:VCALENDAR
VERSION:2.0
BEGIN:VEVENT
CLASS:PUBLIC
CATEGORIES:MEETING
DTSTART;TZID=Pacific/Auckland:20240622T090000
DTEND;TZID=Pacific/Auckland:20240622T090000
SUMMARY:Phreaze at Matariki at the Village (Historic Village)
DESCRIPTION:Price: FREE\nAge Limit: All Ages\n\nDetails: Performances, workshops and so much more on the HIWA-I-TE-RANGI Stage by Phreaze Factory! Come through!
LOCATION:Matariki at the Village (Historic Village) - 159 Seventeenth Ave, Tauranga, NZ
END:VEVENT

END:VCALENDAR
