BEGIN:VCALENDAR
VERSION:2.0
BEGIN:VEVENT
CLASS:PUBLIC
CATEGORIES:MEETING
DTSTART;TZID=Pacific/Auckland:20240705T200000
DTEND;TZID=Pacific/Auckland:20240705T200000
SUMMARY:Phreaze at Back to the 90s @ Totara Street
DESCRIPTION:Click here to buy tickets: https://totarastreet.co.nz/events/2024/july/back-to-the-90s-a-hip-hop-and-rb-experience\nAge Limit: 18+\n\nDetails: \n\nWelcome to &quot;Back to the 90s,&quot; where we&#39;re bringing back the golden era of hip hop and R&amp;B. Get ready to groove to the beats that shaped a generation and celebrate the culture that defined an era.\n\nMC&#39;ed by Mr Williams and DJ Ayesha, join us for an unforgettable journey back to the 90s, where the music was legendary, the vibes were unmatched, and the memories last a lifetime. Don&#39;t miss out on this epic celebration of hip hop and R&amp;B culture.\n\nThere will be live performances from Mr Williams and Phreaze.\n\nExpect to hear iconic tracks that defined the era and take a trip down memory lane with hits that still resonate today.\n\nFriday July 5th, 2024.\n11 Tōtara Street, Mt Maunganui.\nDoors open at 8pm\nTickets are $20 and available at totarastreet.co.nz\nThere will also be limited door sales at $30.\n\nThis event is 18+\n\nNo ID, No entry.\n\nDOORS 8PM R18
LOCATION:Back to the 90s @ Totara Street - 11 Totara Street, Tauranga, BOP, NZ
END:VEVENT

END:VCALENDAR
