BEGIN:VCALENDAR
VERSION:2.0
BEGIN:VEVENT
CLASS:PUBLIC
CATEGORIES:MEETING
DTSTART;TZID=America/New_York:20240630T180000
DTEND;TZID=America/New_York:20240630T180000
SUMMARY:Lisa Martin at Ludlow Summer Concert Series - Mack Donnelly Gazebo Park
DESCRIPTION:Age Limit: All Ages\n\nDetails: Sponsored by the Ludlow Cultural Council. Weekly concerts at Mack Donnelly Gazebo Park. Food truck on site or bring your own picnic, blankets, chairs and join us! Full band show. Folk, rock, country, blues. Music til 7:30pm
LOCATION:Ludlow Summer Concert Series - Mack Donnelly Gazebo Park - 11 East St, Ludlow, MA, 01056, US
END:VEVENT

END:VCALENDAR
