BEGIN:VCALENDAR
VERSION:2.0
BEGIN:VEVENT
CLASS:PUBLIC
CATEGORIES:MEETING
DTSTART;TZID=America/New_York:20240815T173000
DTEND;TZID=America/New_York:20240815T173000
SUMMARY:Lisa Martin at Pizzeria Unos
DESCRIPTION:Age Limit: All Ages\n\nDetails: Full band show! Folk, rock, country, blues. Music til 8:30pm. Outdoors. Weather permitting.
LOCATION:Pizzeria Unos - 820 Hall of Fame Ave, Springfield, MA, 01105, US
END:VEVENT

END:VCALENDAR
