BEGIN:VCALENDAR
VERSION:2.0
BEGIN:VEVENT
CLASS:PUBLIC
CATEGORIES:MEETING
DTSTART;TZID=America/New_York:20240620T183000
DTEND;TZID=America/New_York:20240620T183000
SUMMARY:Lisa Martin at Zen Frog Cafe
DESCRIPTION:Age Limit: All Ages\n\nDetails: Amazing coffeehouse and Zen space featuring monthly music nights with acoustic singer songwriters. Music til 8pm. Please join me!
LOCATION:Zen Frog Cafe - 90 Maple St, Northampton, MA, 01062, US
END:VEVENT

END:VCALENDAR
