BEGIN:VCALENDAR
VERSION:2.0
BEGIN:VEVENT
CLASS:PUBLIC
CATEGORIES:MEETING
DTSTART;TZID=America/Chicago:20241026T200000
DTEND;TZID=America/Chicago:20241026T200000
SUMMARY:Michael Charles at Rumors
DESCRIPTION:Age Limit: All Ages\n\nDetails: Join us for a 40th Anniversary Tour concert by Chicago Blues Hall of Fame, Australian born muso Michael Charles and His Band at Rumorz bar &amp; Grill  as they take you through forty years and forty releases of music. The three hour non-stop concert overflows with precise, energetic, intense, original, and guitar driven contemporary blues, blues-based rock, and the soulful ballads of Michael Charles.
LOCATION:Rumors - 1210 S Shore Dr, Clear Lake, IA, 50428, US
END:VEVENT

END:VCALENDAR
