BEGIN:VCALENDAR
VERSION:2.0
BEGIN:VEVENT
CLASS:PUBLIC
CATEGORIES:MEETING
DTSTART;TZID=America/Chicago:20240721T190000
DTEND;TZID=America/Chicago:20240721T190000
SUMMARY:Soul Punch at Heritage of Hawk Ridge 
DESCRIPTION:Age Limit: All Ages\n\nDetails: Fun cover show for Heritage of Hawk Ridge residents by the pool! 7-9PM
LOCATION:Heritage of Hawk Ridge  - 225 Pigeon Drive, Lake St. Louis, MO, 63367, US
END:VEVENT

END:VCALENDAR
