BEGIN:VCALENDAR
VERSION:2.0
BEGIN:VEVENT
CLASS:PUBLIC
CATEGORIES:MEETING
DTSTART;TZID=America/Los_Angeles:20240621T183000
DTEND;TZID=America/Los_Angeles:20240621T183000
SUMMARY:Silver Lining at Concerts in the Park- Hook Park 
DESCRIPTION:Age Limit: All Ages\n\nDetails: Victorville-Concerts in the Park \n\nSet times 6:30-7:15 &amp; 7:40-8:25
LOCATION:Concerts in the Park- Hook Park  - 14973 Joshua St, Victorville, CA, 92394, US
END:VEVENT

END:VCALENDAR
