BEGIN:VCALENDAR
VERSION:2.0
BEGIN:VEVENT
CLASS:PUBLIC
CATEGORIES:MEETING
DTSTART;TZID=America/Los_Angeles:20240725T190000
DTEND;TZID=America/Los_Angeles:20240725T190000
SUMMARY:Silver Lining at Upland Music Summer Series 
DESCRIPTION:Age Limit: All Ages\n\nDetails: This is Uplands Music Summer Series in Magnolia Park.
LOCATION:Upland Music Summer Series  - 651 W. 15th St, Upland, CA, 91786, US
END:VEVENT

END:VCALENDAR
