BEGIN:VCALENDAR
VERSION:2.0
BEGIN:VEVENT
CLASS:PUBLIC
CATEGORIES:MEETING
DTSTART;TZID=America/Los_Angeles:20240704T150000
DTEND;TZID=America/Los_Angeles:20240704T150000
SUMMARY:Silver Lining at Simi Valley Town Center 
DESCRIPTION:Age Limit: All Ages\n\nDetails: Simi Valleys Annual 4th of July Celebration 
LOCATION:Simi Valley Town Center  - 1555 Simi Town Center Way, Simi Valley, CA, 93065, US
END:VEVENT

END:VCALENDAR
