BEGIN:VCALENDAR
VERSION:2.0
BEGIN:VEVENT
CLASS:PUBLIC
CATEGORIES:MEETING
DTSTART;TZID=America/Los_Angeles:20240518T153000
DTEND;TZID=America/Los_Angeles:20240518T153000
SUMMARY:Silver Lining at St. Benedict Catholic Church Carnival 
DESCRIPTION:Age Limit: All Ages\n\nDetails: Church Carnival 
LOCATION:St. Benedict Catholic Church Carnival  - 1022 W. Cleveland Ave, Montebello, CA, 90640, US
END:VEVENT

END:VCALENDAR
