BEGIN:VCALENDAR
VERSION:2.0
BEGIN:VEVENT
CLASS:PUBLIC
CATEGORIES:MEETING
DTSTART;TZID=America/Los_Angeles:20240629T143000
DTEND;TZID=America/Los_Angeles:20240629T143000
SUMMARY:Silver Lining at Biergarten Old World Huntington Beach
DESCRIPTION:Age Limit: All Ages
LOCATION:Biergarten Old World Huntington Beach - 7561 Center Avenue, Huntington Beach, CA, 92647, US
END:VEVENT

END:VCALENDAR
