BEGIN:VCALENDAR
VERSION:2.0
BEGIN:VEVENT
CLASS:PUBLIC
CATEGORIES:MEETING
DTSTART;TZID=America/Los_Angeles:20240504T180000
DTEND;TZID=America/Los_Angeles:20240504T180000
SUMMARY:Silver Lining at Towns End Stillhouse Grill
DESCRIPTION:Age Limit: All Ages
LOCATION:Towns End Stillhouse Grill - 22020 Highway 18, Apple Valley, CA, 92307, US
END:VEVENT

END:VCALENDAR
