BEGIN:VCALENDAR
VERSION:2.0
BEGIN:VEVENT
CLASS:PUBLIC
CATEGORIES:MEETING
DTSTART;TZID=America/Chicago:20241213T190000
DTEND;TZID=America/Chicago:20241213T190000
SUMMARY:Michael Charles at CSPS Hall
DESCRIPTION:Click here to buy tickets: https://cspshall.my.salesforce-sites.com/ticket/#/events/\nAge Limit: All Ages\n\nDetails: Join us for a 40th Anniversary Tour concert by Chicago Blues Hall of Fame, Australian born muso Michael Charles and His Band as they take you through forty years and forty releases of music. The three hour non-stop concert overflows with precise, energetic, intense, original, and guitar driven contemporary blues, blues-based rock, and the soulful ballads of Michael Charles.
LOCATION:CSPS Hall - 3rd St SE, Cedar Rapids, IA, 52401, US
END:VEVENT

END:VCALENDAR
